BEGIN:VCALENDAR
VERSION:2.0
PRODID:-//Primo Vino - Cask - ECPv6.15.20//NONSGML v1.0//EN
CALSCALE:GREGORIAN
METHOD:PUBLISH
X-WR-CALNAME:Primo Vino - Cask
X-ORIGINAL-URL:https://primovinocask.com
X-WR-CALDESC:Events for Primo Vino - Cask
REFRESH-INTERVAL;VALUE=DURATION:PT1H
X-Robots-Tag:noindex
X-PUBLISHED-TTL:PT1H
BEGIN:VTIMEZONE
TZID:America/Chicago
BEGIN:DAYLIGHT
TZOFFSETFROM:-0600
TZOFFSETTO:-0500
TZNAME:CDT
DTSTART:20250309T080000
END:DAYLIGHT
BEGIN:STANDARD
TZOFFSETFROM:-0500
TZOFFSETTO:-0600
TZNAME:CST
DTSTART:20251102T070000
END:STANDARD
BEGIN:DAYLIGHT
TZOFFSETFROM:-0600
TZOFFSETTO:-0500
TZNAME:CDT
DTSTART:20260308T080000
END:DAYLIGHT
BEGIN:STANDARD
TZOFFSETFROM:-0500
TZOFFSETTO:-0600
TZNAME:CST
DTSTART:20261101T070000
END:STANDARD
BEGIN:DAYLIGHT
TZOFFSETFROM:-0600
TZOFFSETTO:-0500
TZNAME:CDT
DTSTART:20270314T080000
END:DAYLIGHT
BEGIN:STANDARD
TZOFFSETFROM:-0500
TZOFFSETTO:-0600
TZNAME:CST
DTSTART:20271107T070000
END:STANDARD
END:VTIMEZONE
BEGIN:VEVENT
DTSTART;TZID=America/Chicago:20260428T180000
DTEND;TZID=America/Chicago:20260428T200000
DTSTAMP:20260424T141005
CREATED:20260224T170119Z
LAST-MODIFIED:20260224T170119Z
UID:784-1777399200-1777406400@primovinocask.com
SUMMARY:Tuesday Tasting: Bordeaux
DESCRIPTION:Tuesday Tasting: Bordeaux \n– TBA
URL:https://primovinocask.com/event/tuesday-tasting-bordeaux/
LOCATION:Primo Vino\, 1610 N Kingshighway St #105\, Cape Girardeau\, MO\, 63701\, United States
CATEGORIES:Tastings
END:VEVENT
BEGIN:VEVENT
DTSTART;TZID=America/Chicago:20260505T180000
DTEND;TZID=America/Chicago:20260505T200000
DTSTAMP:20260424T141005
CREATED:20260224T170254Z
LAST-MODIFIED:20260224T170254Z
UID:786-1778004000-1778011200@primovinocask.com
SUMMARY:Tuesday Tasting: Tequila ( Cinco de Mayo)
DESCRIPTION:Tuesday Tasting: Tequila ( Cinco de Mayo) \n– TBA
URL:https://primovinocask.com/event/tuesday-tasting-tequila-cinco-de-mayo/
LOCATION:Primo Vino\, 1610 N Kingshighway St #105\, Cape Girardeau\, MO\, 63701\, United States
CATEGORIES:Tastings
END:VEVENT
BEGIN:VEVENT
DTSTART;TZID=America/Chicago:20260512T180000
DTEND;TZID=America/Chicago:20260512T200000
DTSTAMP:20260424T141005
CREATED:20260224T170528Z
LAST-MODIFIED:20260224T170607Z
UID:788-1778608800-1778616000@primovinocask.com
SUMMARY:Tuesday Tasting: White Burgundy Part 2 (France)
DESCRIPTION:Tuesday Tasting: White Burgundy Part 2 (France) \n– TBA
URL:https://primovinocask.com/event/tuesday-tastings-white-burgundy-part-2-france/
LOCATION:Primo Vino\, 1610 N Kingshighway St #105\, Cape Girardeau\, MO\, 63701\, United States
CATEGORIES:Tastings
END:VEVENT
END:VCALENDAR